BEGIN:VCALENDAR
VERSION:2.0
PRODID:-//Squarespace Inc/Squarespace 6//v6//EN
BEGIN:VEVENT
UID:5ceca1cd7817f71809d9b66b@squarespace.com
DTSTAMP:20190528T030648Z
DTSTART:20190630T160000Z
DTEND:20190707T155900Z
SUMMARY:NAIDOC Week 
END:VEVENT
END:VCALENDAR
