BEGIN:VCALENDAR
VERSION:2.0
PRODID:-//Squarespace Inc/Squarespace 6//v6//EN
BEGIN:VEVENT
UID:5cec9de59b747a2124097cef@squarespace.com
DTSTAMP:20190528T030758Z
DTSTART:20190604T160000Z
DTEND:20190605T155900Z
SUMMARY:World Environmental Day
END:VEVENT
END:VCALENDAR
