BEGIN:VCALENDAR
VERSION:2.0
PRODID:-//Squarespace Inc/Squarespace 6//v6//EN
BEGIN:VEVENT
UID:5cec9cd8e2c4834cdc1881f1@squarespace.com
DTSTAMP:20190528T030904Z
DTSTART:20190602T160000Z
DTEND:20190603T155900Z
SUMMARY:Mabo Day
END:VEVENT
END:VCALENDAR
