BEGIN:VCALENDAR
VERSION:2.0
PRODID:-//Squarespace Inc/Squarespace 6//v6//EN
BEGIN:VEVENT
UID:5b8e1207aa4a99a4983fbb6f@squarespace.com
DTSTAMP:20180904T050421Z
DTSTART:20180925T100000Z
DTEND:20180925T130000Z
SUMMARY:Postgraduate Dinner
GEO:-31.974705;115.815367
LOCATION:Conference Room\, 2 Park Road\, Crawley\, WA\, 6009\, Australia
END:VEVENT
END:VCALENDAR
