BEGIN:VCALENDAR
VERSION:2.0
PRODID:-//Squarespace Inc/Squarespace 6//v6//EN
BEGIN:VEVENT
UID:5b9a1fdc758d4663942d7a3b@squarespace.com
DTSTAMP:20180913T083300Z
DTSTART:20180917T093000Z
DTEND:20180917T120000Z
SUMMARY:Formal Hall - 17 September 2018
GEO:-31.974705;115.815367
LOCATION:Withnell Dining Hall\, 2 Park Road\, Crawley\, WA\, 6009\, Austral
 ia
END:VEVENT
END:VCALENDAR
