BEGIN:VCALENDAR
VERSION:2.0
PRODID:-//Squarespace Inc/Squarespace 6//v6//EN
BEGIN:VEVENT
UID:5b8e133803ce641ab20b78cc@squarespace.com
DTSTAMP:20180904T051049Z
DTSTART:20180910T093000Z
DTEND:20180910T123000Z
SUMMARY:Formal Hall - 10 September 2018
GEO:44.915878;-123.044689
LOCATION:Withnell Dining Hall\, 2 Park Road\, Crawley\, WA\, 6009\, Austral
 ia
END:VEVENT
END:VCALENDAR
