BEGIN:VCALENDAR
VERSION:2.0
PRODID:-//Squarespace Inc/Squarespace 6//v6//EN
BEGIN:VEVENT
UID:5b5fe390f950b7af566fbc13@squarespace.com
DTSTAMP:20180731T042321Z
DTSTART:20180814T100000Z
DTEND:20180814T110000Z
SUMMARY:Postgraduate Pizza Night
GEO:-31.974705;115.815367
LOCATION:Postgraduate Room\, 2 Park Road\, Crawley\, WA\, 6009\, Australia
END:VEVENT
END:VCALENDAR
