BEGIN:VCALENDAR
VERSION:2.0
PRODID:-//Squarespace Inc/Squarespace 6//v6//EN
BEGIN:VEVENT
UID:5b5a6e2f6d2a73a8bb12196b@squarespace.com
DTSTAMP:20180727T034920Z
DTSTART:20180730T093000Z
DTEND:20180730T113000Z
SUMMARY:Formal Hall - 30 July 2018
GEO:-31.974705;115.815367
LOCATION:Withnell Dining Hall\, 2 Park Road\, Crawley\, WA\, 6009\, Austral
 ia
END:VEVENT
END:VCALENDAR
