BEGIN:VCALENDAR
VERSION:2.0
PRODID:-//Squarespace Inc/Squarespace 6//v6//EN
BEGIN:VEVENT
UID:5b5a971470a6ad84f13611f6@squarespace.com
DTSTAMP:20180827T041644Z
DTSTART:20180903T040000Z
DTEND:20180903T050000Z
SUMMARY:Formal Hall - 3 September 2018
GEO:44.915581;-123.04497
LOCATION:Withnell Dining Hall\, 2 Park Road\, Crawley\, WA\, 6009\, Austral
 ia
END:VEVENT
END:VCALENDAR
