BEGIN:VCALENDAR
VERSION:2.0
PRODID:-//Squarespace Inc/Squarespace 6//v6//EN
BEGIN:VEVENT
UID:5b5a94598a922d49a144ffe8@squarespace.com
DTSTAMP:20180727T034945Z
DTSTART:20180813T093000Z
DTEND:20180813T113000Z
SUMMARY:Formal Hall - 13 August 2018
GEO:44.915581;-123.04497
LOCATION:Withnell Dining Hall\, 2 Park Road\, Crawley\, WA\, 6009\, Austral
 ia
END:VEVENT
END:VCALENDAR
