BEGIN:VCALENDAR
VERSION:2.0
PRODID:-//Squarespace Inc/Squarespace 6//v6//EN
BEGIN:VEVENT
UID:5ad98a3d562fa7843a760fde@squarespace.com
DTSTAMP:20180420T064245Z
DTSTART:20180720T103000Z
DTEND:20180720T130000Z
SUMMARY:1990s Reunion
GEO:-31.974705;115.815367
LOCATION:St Catherine's College\, 2 Park Road\, Crawley\, WA\, 6009\, Austr
 alia
END:VEVENT
END:VCALENDAR
