BEGIN:VCALENDAR
VERSION:2.0
PRODID:-//Squarespace Inc/Squarespace 6//v6//EN
BEGIN:VEVENT
UID:5b0915f1575d1fdde9567fcb@squarespace.com
DTSTAMP:20180526T081205Z
DTSTART:20180603T090000Z
DTEND:20180603T110000Z
SUMMARY:Sport's Dinner
GEO:-31.974705;115.815367
LOCATION:St Catherine's College\, 2 Park Road\, Crawley\, WA\, 6009\, Austr
 alia
END:VEVENT
END:VCALENDAR
