BEGIN:VCALENDAR
VERSION:2.0
PRODID:-//Squarespace Inc/Squarespace 6//v6//EN
BEGIN:VEVENT
UID:5ae13b6baa4a9989a338bb26@squarespace.com
DTSTAMP:20180426T024331Z
DTSTART:20180508T100000Z
DTEND:20180508T113000Z
SUMMARY:Arts\, Business and Law Faculty Dinner
GEO:-31.974705;115.815367
LOCATION:Conference Room\, 2 Park Road\, Crawley\, WA\, 6009\, Australia
END:VEVENT
END:VCALENDAR
