BEGIN:VCALENDAR
VERSION:2.0
PRODID:-//Squarespace Inc/Squarespace 6//v6//EN
BEGIN:VEVENT
UID:5aea75c4f950b7625161d00b@squarespace.com
DTSTAMP:20180503T024108Z
DTSTART:20180507T093000Z
DTEND:20180507T113000Z
SUMMARY:Formal Hall - 7 May 2018
GEO:-31.974705;115.815367
LOCATION:Withnell Dining Hall\, 2 Park Road\, Crawley\, WA\, 6009\, Austral
 ia
END:VEVENT
END:VCALENDAR
