BEGIN:VCALENDAR
VERSION:2.0
PRODID:-//Squarespace Inc/Squarespace 6//v6//EN
BEGIN:VEVENT
UID:5af4f4cd575d1f737f4db4d9@squarespace.com
DTSTAMP:20180511T015122Z
DTSTART:20180529T093000Z
DTEND:20180529T120000Z
SUMMARY:Valedictory Dinner
GEO:-31.974705;115.815367
LOCATION:Withnell Dining Hall\, 2 Park Road\, Crawley\, WA\, 6009\, Austral
 ia
END:VEVENT
END:VCALENDAR
