BEGIN:VCALENDAR
VERSION:2.0
PRODID:-//Squarespace Inc/Squarespace 6//v6//EN
BEGIN:VEVENT
UID:5afce792575d1f528bccd4e7@squarespace.com
DTSTAMP:20180517T022643Z
DTSTART:20180521T093000Z
DTEND:20180521T120000Z
SUMMARY:Formal Hall - 21 May 2018
GEO:-31.974705;115.815367
LOCATION:Withnell Dining Hall\, 2 Park Road\, Crawley\, WA\, 6009\, Austral
 ia
END:VEVENT
END:VCALENDAR
