BEGIN:VCALENDAR
VERSION:2.0
PRODID:-//Squarespace Inc/Squarespace 6//v6//EN
BEGIN:VEVENT
UID:5af2942070a6ade68bb43520@squarespace.com
DTSTAMP:20180509T062510Z
DTSTART:20180518T130000Z
DTEND:20180519T010000Z
SUMMARY:Mega-Sleepover
END:VEVENT
END:VCALENDAR
