BEGIN:VCALENDAR
VERSION:2.0
PRODID:-//Squarespace Inc/Squarespace 6//v6//EN
BEGIN:VEVENT
UID:5af2952c562fa7f44aa04d56@squarespace.com
DTSTAMP:20180509T063223Z
DTSTART:20180515T103000Z
DTEND:20180515T113000Z
SUMMARY:Postgraduate Sushi Night
GEO:-31.974705;115.815367
LOCATION:St Catherine's College\, 2 Park Road\, Crawley\, WA\, 6009\, Austr
 alia
END:VEVENT
END:VCALENDAR
