BEGIN:VCALENDAR
VERSION:2.0
PRODID:-//Squarespace Inc/Squarespace 6//v6//EN
BEGIN:VEVENT
UID:5af42bbcaa4a99e06fe01b8d@squarespace.com
DTSTAMP:20180510T112556Z
DTSTART:20180514T093000Z
DTEND:20180514T120000Z
SUMMARY:Formal Hall - 14 May 2018
GEO:-31.974705;115.815367
LOCATION:Withnell Dining Hall\, 2 Park Road\, Crawley\, WA\, 6009\, Austral
 ia
END:VEVENT
END:VCALENDAR
