BEGIN:VCALENDAR
VERSION:2.0
PRODID:-//Squarespace Inc/Squarespace 6//v6//EN
BEGIN:VEVENT
UID:5ab45b1b0e2e72bd8343738a@squarespace.com
DTSTAMP:20180405T021036Z
DTSTART:20180409T093000Z
DTEND:20180409T120000Z
SUMMARY:Formal Hall - 9 April 2018
GEO:-31.974849;115.816938
LOCATION:Withnell Dining Hall\, 2 Park Road\, Crawley\, WA\, 6009\, Austral
 ia
END:VEVENT
END:VCALENDAR
