BEGIN:VCALENDAR
VERSION:2.0
PRODID:-//Squarespace Inc/Squarespace 6//v6//EN
BEGIN:VEVENT
UID:5ab46281562fa77d173f5e42@squarespace.com
DTSTAMP:20180426T021936Z
DTSTART:20180429T213000Z
DTEND:20180430T120000Z
SUMMARY:Formal Hall - 30 April 2018
GEO:-31.974849;115.816938
LOCATION:Withnell Dining Hall\, 2 Park Road\, Crawley\, WA\, 6009\, Austral
 ia
END:VEVENT
END:VCALENDAR
