BEGIN:VCALENDAR
VERSION:2.0
PRODID:-//Squarespace Inc/Squarespace 6//v6//EN
BEGIN:VEVENT
UID:5ac58834575d1ffe219d71aa@squarespace.com
DTSTAMP:20180405T022725Z
DTSTART:20180421T010000Z
DTEND:20180421T030000Z
SUMMARY:Postgraduate Paddleboarding
END:VEVENT
END:VCALENDAR
