BEGIN:VCALENDAR
VERSION:2.0
PRODID:-//Squarespace Inc/Squarespace 6//v6//EN
BEGIN:VEVENT
UID:5ac427520e2e72d53c1a7967@squarespace.com
DTSTAMP:20180404T012323Z
DTSTART:20180416T013000Z
DTEND:20180421T023000Z
SUMMARY:Secret Friends Week
GEO:-31.974705;115.815367
LOCATION:St Catherine's College\, 2 Park Road\, Crawley\, WA\, 6009\, Austr
 alia
END:VEVENT
END:VCALENDAR
