BEGIN:VCALENDAR
VERSION:2.0
PRODID:-//Squarespace Inc/Squarespace 6//v6//EN
BEGIN:VEVENT
UID:5ac5837aaa4a9945540f1337@squarespace.com
DTSTAMP:20180405T021113Z
DTSTART:20180410T100000Z
DTEND:20180410T113000Z
SUMMARY:Science Faculty Dinner
GEO:-31.974705;115.815367
LOCATION:Conference Room\, 2 Park Road\, Crawley\, WA\, 6009\, Australia
END:VEVENT
END:VCALENDAR
