BEGIN:VCALENDAR
VERSION:2.0
PRODID:-//Squarespace Inc/Squarespace 6//v6//EN
BEGIN:VEVENT
UID:5aa0b2c1c83025fedf5514aa@squarespace.com
DTSTAMP:20180308T040701Z
DTSTART:20180312T093000Z
DTEND:20180312T120000Z
SUMMARY:Formal Hall - 12 March 2018
GEO:-31.974849;115.816938
LOCATION:Withnell Dining Hall\, 2 Park Road\, Crawley\, WA\, 6009\, Austral
 ia
END:VEVENT
END:VCALENDAR
