BEGIN:VCALENDAR
VERSION:2.0
PRODID:-//Squarespace Inc/Squarespace 6//v6//EN
BEGIN:VEVENT
UID:5aacdff62b6a28af3e8f44a1@squarespace.com
DTSTAMP:20180317T093031Z
DTSTART:20180326T093000Z
DTEND:20180326T103000Z
SUMMARY:Cyber Safety Workshop
GEO:-31.974849;115.816938
LOCATION:Bloom\, 2 Park Road\, Crawley\, 6009
END:VEVENT
END:VCALENDAR
