BEGIN:VCALENDAR
VERSION:2.0
PRODID:-//Squarespace Inc/Squarespace 6//v6//EN
BEGIN:VEVENT
UID:5aa27388e2c4833a7de354d8@squarespace.com
DTSTAMP:20180310T021018Z
DTSTART:20180319T093000Z
DTEND:20180319T120000Z
SUMMARY:Multicultural Night
GEO:-31.974849;115.816938
LOCATION:Kumba Courtyard\, 2 Park Road\, Crawley\, WA\, 6009\, Australia
END:VEVENT
END:VCALENDAR
