BEGIN:VCALENDAR
VERSION:2.0
PRODID:-//Squarespace Inc/Squarespace 6//v6//EN
BEGIN:VEVENT
UID:5a9e3f089140b7a2b4fa6fed@squarespace.com
DTSTAMP:20180306T071447Z
DTSTART:20180313T110000Z
DTEND:20180313T120000Z
SUMMARY:Postgraduate Wine & Cheese Night
GEO:-31.974849;115.816938
LOCATION:St Catherine's College\, 2 Park Road\, Crawley\, WA\, 6009\, Austr
 alia
END:VEVENT
END:VCALENDAR
