BEGIN:VCALENDAR
VERSION:2.0
PRODID:-//Squarespace Inc/Squarespace 6//v6//EN
BEGIN:VEVENT
UID:5a8cbf350d9297f140a2d72b@squarespace.com
DTSTAMP:20180221T004830Z
DTSTART:20180227T093000Z
DTEND:20180227T123000Z
SUMMARY:Commencement Dinner
GEO:-31.974849;115.816938
LOCATION:Jull Courtyard\, 2 Park Road\, Crawley\, WA\, 6009\, Australia
END:VEVENT
END:VCALENDAR
