BEGIN:VCALENDAR
VERSION:2.0
PRODID:-//Squarespace Inc/Squarespace 6//v6//EN
BEGIN:VEVENT
UID:5a66e79724a69492e7ca8f36@squarespace.com
DTSTAMP:20180123T074401Z
DTSTART:20180225T113000Z
DTEND:20180225T140000Z
SUMMARY:Rooftop Movie Night
GEO:-31.974849;115.816938
LOCATION:Rooftop Garden\, 2 Park Road\, Crawley\, WA\, 6009\, Australia
END:VEVENT
END:VCALENDAR
