BEGIN:VCALENDAR
VERSION:2.0
PRODID:-//Squarespace Inc/Squarespace 6//v6//EN
BEGIN:VEVENT
UID:5a66e6fff9619a21f783850e@squarespace.com
DTSTAMP:20180123T074131Z
DTSTART:20180224T060000Z
DTEND:20180224T080000Z
SUMMARY:Vision Boarding & Goal Setting
GEO:-31.974849;115.816938
LOCATION:St Catherine's College\, 2 Park Road\, Crawley\, WA\, 6009\, Austr
 alia
END:VEVENT
END:VCALENDAR
