BEGIN:VCALENDAR
VERSION:2.0
PRODID:-//Squarespace Inc/Squarespace 6//v6//EN
BEGIN:VEVENT
UID:5a66e6379140b71728085c34@squarespace.com
DTSTAMP:20180123T073800Z
DTSTART:20180223T013000Z
DTEND:20180223T040000Z
SUMMARY:RSD Fresher Fest
GEO:-31.974849;115.816938
LOCATION:St Catherine's College\, 2 Park Road\, Crawley\, WA\, 6009\, Austr
 alia
END:VEVENT
END:VCALENDAR
