BEGIN:VCALENDAR
VERSION:2.0
PRODID:-//Squarespace Inc/Squarespace 6//v6//EN
BEGIN:VEVENT
UID:5a66e66053450a2008a30f30@squarespace.com
DTSTAMP:20180123T073844Z
DTSTART:20180223T060000Z
DTEND:20180223T090000Z
SUMMARY:Innaloo Shopping Trip
GEO:-31.974849;115.816938
LOCATION:St Catherine's College\, 2 Park Road\, Crawley\, WA\, 6009\, Austr
 alia
END:VEVENT
END:VCALENDAR
