BEGIN:VCALENDAR
VERSION:2.0
PRODID:-//Squarespace Inc/Squarespace 6//v6//EN
BEGIN:VEVENT
UID:5a66e5ee419202ba47d72fd6@squarespace.com
DTSTAMP:20180123T073716Z
DTSTART:20180223T010000Z
DTEND:20180223T013000Z
SUMMARY:Fresher Dance
GEO:-31.974849;115.816938
LOCATION:St Catherine's College\, 2 Park Road\, Crawley\, WA\, 6009\, Austr
 alia
END:VEVENT
END:VCALENDAR
