BEGIN:VCALENDAR
VERSION:2.0
PRODID:-//Squarespace Inc/Squarespace 6//v6//EN
BEGIN:VEVENT
UID:5a66e2d48165f59d84ad144a@squarespace.com
DTSTAMP:20180123T072356Z
DTSTART:20180223T043000Z
DTEND:20180223T060000Z
SUMMARY:Cheer Squad
GEO:-31.974849;115.816938
LOCATION:St Catherine's College\, 2 Park Road\, Crawley\, WA\, 6009\, Austr
 alia
END:VEVENT
END:VCALENDAR
