BEGIN:VCALENDAR
VERSION:2.0
PRODID:-//Squarespace Inc/Squarespace 6//v6//EN
BEGIN:VEVENT
UID:5a66dc25e4966b0ac3c0c92b@squarespace.com
DTSTAMP:20180123T074756Z
DTSTART:20180218T113000Z
DTEND:20180218T140000Z
SUMMARY:Cats Olympics: Lawn Games\, Challenges & Firepit S’Mores
GEO:-31.974849;115.816938
LOCATION:Jull Common Room\, 2 Park Road\, Crawley\, WA\, 6009\, Australia
END:VEVENT
END:VCALENDAR
