BEGIN:VCALENDAR
VERSION:2.0
PRODID:-//Squarespace Inc/Squarespace 6//v6//EN
BEGIN:VEVENT
UID:5a66e5a60d92971bebd52330@squarespace.com
DTSTAMP:20180123T073604Z
DTSTART:20180222T113000Z
DTEND:20180222T130000Z
SUMMARY:Wing Combat & Cheer Squad
GEO:-31.974849;115.816938
LOCATION:Withnell Dinning Hall\, 2 Park Road\, Crawley\, WA\, 6009\, Austra
 lia
END:VEVENT
END:VCALENDAR
