BEGIN:VCALENDAR
VERSION:2.0
PRODID:-//Squarespace Inc/Squarespace 6//v6//EN
BEGIN:VEVENT
UID:5a66e4e60d92971bebd50cdf@squarespace.com
DTSTAMP:20180123T073235Z
DTSTART:20180222T070000Z
DTEND:20180222T090000Z
SUMMARY:Water Games 
GEO:-31.974849;115.816938
LOCATION:St Catherine's College\, 2 Park Road\, Crawley\, WA\, 6009\, Austr
 alia
END:VEVENT
END:VCALENDAR
