BEGIN:VCALENDAR
VERSION:2.0
PRODID:-//Squarespace Inc/Squarespace 6//v6//EN
BEGIN:VEVENT
UID:5a66e44724a69492e7ca2dfd@squarespace.com
DTSTAMP:20180123T072958Z
DTSTART:20180222T023000Z
DTEND:20180222T040000Z
SUMMARY:Hetty Velome: Holocaust Survivor & Prize Winning Author
GEO:-31.974849;115.816938
LOCATION:Postgradute Room\, 2 Park Road\, Crawley\, WA\, 6009\, Australia
END:VEVENT
END:VCALENDAR
