BEGIN:VCALENDAR
VERSION:2.0
PRODID:-//Squarespace Inc/Squarespace 6//v6//EN
BEGIN:VEVENT
UID:5a66e2710d92971bebd4c407@squarespace.com
DTSTAMP:20180123T072203Z
DTSTART:20180220T233000Z
DTEND:20180221T010000Z
SUMMARY:Pop Up Volunteering 
GEO:-31.974849;115.816938
LOCATION:St Catherine's College\, 2 Park Road\, Crawley\, WA\, 6009\, Austr
 alia
END:VEVENT
END:VCALENDAR
