BEGIN:VCALENDAR
VERSION:2.0
PRODID:-//Squarespace Inc/Squarespace 6//v6//EN
BEGIN:VEVENT
UID:5a66e371e4966b0ac3c1a578@squarespace.com
DTSTAMP:20180123T072637Z
DTSTART:20180221T110000Z
DTEND:20180221T140000Z
SUMMARY:Graduate Welcome BBQ
GEO:-31.974849;115.816938
LOCATION:Graduate Courtyard\, 2 Park Road\, Crawley\, WA\, 6009\, Australia
END:VEVENT
END:VCALENDAR
