BEGIN:VCALENDAR
VERSION:2.0
PRODID:-//Squarespace Inc/Squarespace 6//v6//EN
BEGIN:VEVENT
UID:5a66e314e2c48352fccde00c@squarespace.com
DTSTAMP:20180123T072447Z
DTSTART:20180221T060000Z
DTEND:20180221T083000Z
SUMMARY:Concurrent Activities
GEO:-31.974849;115.816938
LOCATION:St Catherine's College\, 2 Park Road\, Crawley\, WA\, 6009\, Austr
 alia
END:VEVENT
END:VCALENDAR
