BEGIN:VCALENDAR
VERSION:2.0
PRODID:-//Squarespace Inc/Squarespace 6//v6//EN
BEGIN:VEVENT
UID:5a66e3b571c10bf8dffc5ae2@squarespace.com
DTSTAMP:20180123T072813Z
DTSTART:20180221T110000Z
DTEND:20180221T120000Z
SUMMARY:Captain Stirling or Red Frog Coffee Crawl
GEO:-31.974849;115.816938
LOCATION:St Catherine's College\, 2 Park Road\, Crawley\, WA\, 6009\, Austr
 alia
END:VEVENT
END:VCALENDAR
