BEGIN:VCALENDAR
VERSION:2.0
PRODID:-//Squarespace Inc/Squarespace 6//v6//EN
BEGIN:VEVENT
UID:5a66e1fe8165f59d84acf920@squarespace.com
DTSTAMP:20180201T043304Z
DTSTART:20180220T100000Z
DTEND:20180220T110000Z
SUMMARY:Welcome Drinks for Exchange students & Taylor's Students
GEO:-31.974849;115.816938
LOCATION:St Catherine's College\, 2 Park Road\, Crawley\, WA\, 6009\, Austr
 alia
END:VEVENT
END:VCALENDAR
