BEGIN:VCALENDAR
VERSION:2.0
PRODID:-//Squarespace Inc/Squarespace 6//v6//EN
BEGIN:VEVENT
UID:5a66e05ce4966b0ac3c14903@squarespace.com
DTSTAMP:20180123T071300Z
DTSTART:20180220T010000Z
DTEND:20180220T023000Z
SUMMARY:SHQ – Unintentional Pregnancy\, STIs & Respectful Relationships
GEO:-31.974849;115.816938
LOCATION:Conference Room\, 2 Park Road\, Crawley\, WA\, 6009\, Australia
END:VEVENT
END:VCALENDAR
