BEGIN:VCALENDAR
VERSION:2.0
PRODID:-//Squarespace Inc/Squarespace 6//v6//EN
BEGIN:VEVENT
UID:5a66e0840d92971bebd48cf9@squarespace.com
DTSTAMP:20180123T071449Z
DTSTART:20180220T023000Z
DTEND:20180220T040000Z
SUMMARY:Fresher Dance & Cheer Squad
GEO:-31.974849;115.816938
LOCATION:St Catherine's College\, 2 Park Road\, Crawley\, WA\, 6009\, Austr
 alia
END:VEVENT
END:VCALENDAR
