BEGIN:VCALENDAR
VERSION:2.0
PRODID:-//Squarespace Inc/Squarespace 6//v6//EN
BEGIN:VEVENT
UID:5a66e028419202ba47d68355@squarespace.com
DTSTAMP:20180123T071212Z
DTSTART:20180220T000000Z
DTEND:20180220T010000Z
SUMMARY:Fire Drill
GEO:-31.974849;115.816938
LOCATION:St Catherine's College\, 2 Park Road\, Crawley\, WA\, 6009\, Austr
 alia
END:VEVENT
END:VCALENDAR
