BEGIN:VCALENDAR
VERSION:2.0
PRODID:-//Squarespace Inc/Squarespace 6//v6//EN
BEGIN:VEVENT
UID:5a66e1c50d92971bebd4b0bf@squarespace.com
DTSTAMP:20180123T071919Z
DTSTART:20180220T093000Z
DTEND:20180220T100000Z
SUMMARY:Dinner: Quiz Challenge
GEO:-31.974849;115.816938
LOCATION:Withnell Dinning Hall\, 2 Park Road\, Crawley\, WA\, 6009\, Austra
 lia
END:VEVENT
END:VCALENDAR
