BEGIN:VCALENDAR
VERSION:2.0
PRODID:-//Squarespace Inc/Squarespace 6//v6//EN
BEGIN:VEVENT
UID:5a66e248c8302557d7aab813@squarespace.com
DTSTAMP:20180123T072110Z
DTSTART:20180220T110000Z
DTEND:20180220T140000Z
SUMMARY:Cultural Immersion
GEO:-31.974849;115.816938
LOCATION:Jull Courtyard\, 2 Park Road\, Crawley\, WA\, 6009\, Australia
END:VEVENT
END:VCALENDAR
