BEGIN:VCALENDAR
VERSION:2.0
PRODID:-//Squarespace Inc/Squarespace 6//v6//EN
BEGIN:VEVENT
UID:5a66dfcb71c10bf8dffbe4c6@squarespace.com
DTSTAMP:20180123T071126Z
DTSTART:20180219T120000Z
DTEND:20180219T140000Z
SUMMARY:Singstar & Silent Disco
GEO:-31.974849;115.816938
LOCATION:Jull Common Room\, 2 Park Road\, Crawley\, WA\, 6009\, Australia
END:VEVENT
END:VCALENDAR
